BEGIN:VCALENDAR
VERSION:2.0
PRODID:-//CERN//INDICO//EN
BEGIN:VEVENT
SUMMARY:第一百三十一期HAPOF，Covariant Scattering Amplitudes for P
 artial Wave\, Form Factor\, and Parton Correlation，于江浩 研究员
 ，2026年04月30日
DTSTART;VALUE=DATE-TIME:20260430T020000Z
DTEND;VALUE=DATE-TIME:20260430T040000Z
DTSTAMP;VALUE=DATE-TIME:20260422T125608Z
UID:indico-event-433@indico.itp.ac.cn
DESCRIPTION:\n报告人： 于江浩 研究员（中国科学院理论物
 理研究所）\n报告时间：2026年04月30日 10：00 - 12：00 (北
 京时间)\n会议链接：点击链接\n\n摘要：\n无质量粒子的
 散射振幅理论在过去二十余年取得了长足进展，而有质
 量粒子的散射振幅研究则尚处于发展阶段。本报告将聚
 焦于massive\nspinor-helicity形式构建完全协变的自旋算符，
 进而实现有质量散射振幅的协变自旋轨道LS分解。该分解
 可直接应用于强子分波振幅的\n协变计算，对BES实验数据
 的分析结果与文献一致。进一步地，我们将该方法推广
 至强子形状因子，首次获得任意自旋强子形状因子的\n独
 立完备的形式，并指出此前文献中存在冗余。最后，通
 过对散射振幅实施光锥投影，可以系统构建高扭度部分
 子关联函数，不仅重现\nMulders等人的结果，还可自然推
 广至任意自旋强子的部分子关联函数。\n\n报告人简介：\
 n于江浩，中国科学院理论物理研究所研究员。2012年获密
 歇根州立大学博士学位，随后在德克萨斯大学奥斯汀分
 校与麻省大学阿默斯特\n分校从事博士后研究，2017年加
 入理论物理所。主要研究方向包括有效场论、有质量散
 射振幅、Higgs与中微子物理、粒子宇宙学，\n已发表论文9
 0余篇，其中包括3篇PRL，引用超过四千次，多次受邀撰写
 有效场论相关综述，在HEFT等国际会议上作主旨报告及国
 际知名的\n“All things EFT”系列论坛作一小时报告，并多
 次在国内外暑期学校讲授有效场论课程。\n\n特别鸣谢：
 本届论坛由彭桓武理论物理创新研究中心支持。\n\n\n\nhtt
 ps://indico.itp.ac.cn/event/433/
LOCATION:
URL:https://indico.itp.ac.cn/event/433/
END:VEVENT
END:VCALENDAR
