BEGIN:VCALENDAR
VERSION:2.0
PRODID:-//CERN//INDICO//EN
BEGIN:VEVENT
SUMMARY:中国科学院“人工智能赋能理论科学与大科学装置
 ”雁栖青年论坛
DTSTART;VALUE=DATE-TIME:20260507T010000Z
DTEND;VALUE=DATE-TIME:20260507T090000Z
DTSTAMP;VALUE=DATE-TIME:20260423T222553Z
UID:indico-event-432@indico.itp.ac.cn
DESCRIPTION:雁栖青年论坛是由中国科学院发起举办的青年
 科学家高端学术论坛，秉承“启迪、探索、突破”的主
 题，立足基础科学研究突破、推动倡导国际合作、促进
 青年快速成长三大任务，面向国家战略需求和科学前沿
 重大问题，汇聚优秀青年科学家开展研讨和鼓励争鸣，
 促进源头创新和前沿交叉，凝练提出前沿研究重大科学
 问题。\n\n“人工智能赋能理论科学与大科学装置”雁栖
 青年论坛（以下简称“论坛”）由中国科学院理论物理
 研究所主办、中国科学院高能物理研究所协办。论坛将
 聚焦人工智能与基础科学深度融合，系统讨论人工智能
 驱动的重大基础科学问题凝练、科学发现范式升级、大
 科学装置数据分析与智能运行、跨学科协同研究等，以
 推动人工智能赋能的原创理论探索和大科学装置实验验
 证研究。\n\n一、论坛基本信息\n\n论坛主题：人工智能赋
 能理论科学与大科学装置\n\n举办时间：2026年5月7日（星
 期四）（5月6日报到，5月8日离会）\n\n举办地点：辽宁大
 厦（北京市海淀区北四环西路甲2号）\n\n二、主办和协办
 单位\n\n主办单位：中国科学院理论物理研究所\n\n协办单
 位：中国科学院高能物理研究所\n\n三、会议日程\n\n上午
 ：主旨报告\n\n下午：圆桌讨论\n\n四、注册方式及注册费
 \n\n参会代表请于2026年4月29日（周三）下午17点前在论坛
 网站（https://indico.itp.ac.cn/event/432/registrations/145/）注册。
 \n\n论坛不收取注册费。\n\n五、食宿安排\n\n会议期间，
 食宿由会务组统一安排，住宿及交通费用自理。\n\n六、
 联系方式\n\n西宁，xining@itp.ac.cn，13313323073\n\n孙茜，sunqia
 n@itp.ac.cn，13611163198 \n\nhttps://indico.itp.ac.cn/event/432/
LOCATION:
URL:https://indico.itp.ac.cn/event/432/
END:VEVENT
END:VCALENDAR
