BEGIN:VCALENDAR
VERSION:2.0
PRODID:-//CERN//INDICO//EN
BEGIN:VEVENT
SUMMARY:第四届新物理数值计算与模拟前沿讲习班
DTSTART;VALUE=DATE-TIME:20260706T010000Z
DTEND;VALUE=DATE-TIME:20260713T090000Z
DTSTAMP;VALUE=DATE-TIME:20260424T035506Z
UID:indico-event-428@indico.itp.ac.cn
DESCRIPTION:河南师范大学理论物理中心拟于2026年7月6日至13
 日在河南新乡举办“第四届新物理数值计算与模拟前沿
 讲习班”。数值计算与模拟是探索超出标准模型新物理
 的核心工具，在理论预测、对撞机数据分析和宇宙演化
 模拟中发挥关键作用；人工智能与传统数值方法的深度
 融合，为新物理唯象研究提供了创新支撑。本次讲习班
 围绕新物理模型相关前沿方向展开，重点涵盖对撞机唯
 象学、粒子宇宙学的理论基础、数值计算方法及人工智
 能应用。\n\n主要课程包括\n\n一、AI在对撞机物理中的应
 用：\n1、ColliderAgent (https://github.com/HET-AGI/ColliderAgent)：让
 普通 AI 编程助手能"读懂"并"跑通"粒子物理论文的云端代
 理系统，降低高能物理计算的技术门槛。\n      主讲人
 ：袁兴博\n2、MLAnalysis (https://github.com/NBAlexis/MLAnalysis)：
 基于机器学习分析对撞机上的新物理信号。\n      主讲
 人：杨冀翀\n\n二、对撞机唯象学基础：\n1、ColliderBit (ht
 tps://gambitbsm.org)：GAMBIT中计算对撞机限制与似然函数的模
 块。\n      主讲人：张阳\n\n三、粒子宇宙学基础：\n1
 、随机引力波背景的探测。\n      主讲人：郭怀珂\n2、
 TransitionSolver (https://github.com/TransitionSolver/TransitionSolver)：
 用于研究宇宙早期"一阶相变"的物理细节，并预测这类剧
 烈事件产生的引力波信号。\n      主讲人：Peter Arthron\
 n3：宇宙学相变模拟。\n      主讲人：肖洋\n\n四、AI在
 宇宙学相变中的应用：\n1、PhaseTracer (https://github.com/PhaseT
 racer)：计算新物理模型电弱相变的相结构、相变温度、
 参数及其产生的随机引力波背景。\n      主讲人：张阳
 \n\n五、通用基础方面：\n1、Statistics in Particle Physics。\n 
      主讲人：Andrew Fowlie\n2、EasyScan_HEP (https://github.com/ph
 yzhangyang/EasyScan_HEP)：易于连接不同高能物理计算程序的
 采样工具。\n      主讲人：尚亮亮\n3、新物理模型构造
 。\n      主讲人：都小康\n4、Python基础。\n      主讲
 人：贺杨乐\n\n时间：2026年7月6日至7月13日（6日报到，13
 日离会）\n\n地点：河南师范大学\n\n注册费：800元，食宿
 自理\n\n指导委员会：常钦，李田军，马建平，武雷，杨
 金民，杨亚东\n组委会：Peter Arthron，都小康，Andrew Fowlie
 ，贺杨乐，侯镖锋，李松，连经伟，梁正程，尚亮亮，
 吴佳俊，肖洋，杨炳方，岳远方，张阳（chair），周海静
 \n会议联系人：都小康（xkdu@hnas.ac.cn）、连经伟（lianjw@hi
 st.edu.cn）、侯镖锋（resonhou@zknu.edu.cn）\n\nhttps://indico.itp.a
 c.cn/event/428/
LOCATION:
URL:https://indico.itp.ac.cn/event/428/
END:VEVENT
END:VCALENDAR
