BEGIN:VCALENDAR
VERSION:2.0
PRODID:-//CERN//INDICO//EN
BEGIN:VEVENT
SUMMARY:DA moments from local and non-local matrix elements
DTSTART;VALUE=DATE-TIME:20260418T070000Z
DTEND;VALUE=DATE-TIME:20260418T073000Z
DTSTAMP;VALUE=DATE-TIME:20260424T000200Z
UID:indico-contribution-2334@indico.itp.ac.cn
DESCRIPTION:Speakers: Ji-Hao Wang ()\nhttps://indico.itp.ac.cn/event/422/c
 ontributions/2334/
LOCATION:中海凯骊酒店 会议厅
URL:https://indico.itp.ac.cn/event/422/contributions/2334/
END:VEVENT
END:VCALENDAR
