BEGIN:VCALENDAR
VERSION:2.0
PRODID:-//CERN//INDICO//EN
BEGIN:VEVENT
SUMMARY:Discussion on lattice ensembles\, HQET\, AI\, etc.
DTSTART;VALUE=DATE-TIME:20260419T030000Z
DTEND;VALUE=DATE-TIME:20260419T040000Z
DTSTAMP;VALUE=DATE-TIME:20260424T000104Z
UID:indico-contribution-2332@indico.itp.ac.cn
DESCRIPTION:https://indico.itp.ac.cn/event/422/contributions/2332/
LOCATION:中海凯骊酒店 会议厅
URL:https://indico.itp.ac.cn/event/422/contributions/2332/
END:VEVENT
END:VCALENDAR
