BEGIN:VCALENDAR
VERSION:2.0
PRODID:-//CERN//INDICO//EN
BEGIN:VEVENT
SUMMARY:Bottom physics from CLQCD ensembles
DTSTART;VALUE=DATE-TIME:20260419T013000Z
DTEND;VALUE=DATE-TIME:20260419T020000Z
DTSTAMP;VALUE=DATE-TIME:20260424T022944Z
UID:indico-contribution-2331@indico.itp.ac.cn
DESCRIPTION:Speakers: Meng-Chu Cai ()\nhttps://indico.itp.ac.cn/event/422/
 contributions/2331/
LOCATION:中海凯骊酒店 会议厅
URL:https://indico.itp.ac.cn/event/422/contributions/2331/
END:VEVENT
END:VCALENDAR
