BEGIN:VCALENDAR
VERSION:2.0
PRODID:-//CERN//INDICO//EN
BEGIN:VEVENT
SUMMARY:From PhysMaster to LQCDMaster
DTSTART;VALUE=DATE-TIME:20260419T020000Z
DTEND;VALUE=DATE-TIME:20260419T023000Z
DTSTAMP;VALUE=DATE-TIME:20260424T012320Z
UID:indico-contribution-2329@indico.itp.ac.cn
DESCRIPTION:Speakers: Muhua Zhang ()\nhttps://indico.itp.ac.cn/event/422/c
 ontributions/2329/
LOCATION:中海凯骊酒店 会议厅
URL:https://indico.itp.ac.cn/event/422/contributions/2329/
END:VEVENT
END:VCALENDAR
