BEGIN:VCALENDAR
VERSION:2.0
PRODID:-//CERN//INDICO//EN
BEGIN:VEVENT
SUMMARY:Recent Progress and Research Plan for Baryonic Structures
DTSTART;VALUE=DATE-TIME:20260419T010000Z
DTEND;VALUE=DATE-TIME:20260419T013000Z
DTSTAMP;VALUE=DATE-TIME:20260423T235628Z
UID:indico-contribution-2328@indico.itp.ac.cn
DESCRIPTION:Speakers: Jun Hua ()\nhttps://indico.itp.ac.cn/event/422/contr
 ibutions/2328/
LOCATION:中海凯骊酒店 会议厅
URL:https://indico.itp.ac.cn/event/422/contributions/2328/
END:VEVENT
END:VCALENDAR
