BEGIN:VCALENDAR
VERSION:2.0
PRODID:-//CERN//INDICO//EN
BEGIN:VEVENT
SUMMARY:Discussion on Spin\, GPDs\, TMDs
DTSTART;VALUE=DATE-TIME:20260418T090000Z
DTEND;VALUE=DATE-TIME:20260418T100000Z
DTSTAMP;VALUE=DATE-TIME:20260424T012408Z
UID:indico-contribution-2327@indico.itp.ac.cn
DESCRIPTION:https://indico.itp.ac.cn/event/422/contributions/2327/
LOCATION:中海凯骊酒店 会议厅
URL:https://indico.itp.ac.cn/event/422/contributions/2327/
END:VEVENT
END:VCALENDAR
