BEGIN:VCALENDAR
VERSION:2.0
PRODID:-//CERN//INDICO//EN
BEGIN:VEVENT
SUMMARY:Lattice QCD Determination of the TMD PDFs
DTSTART;VALUE=DATE-TIME:20260418T083000Z
DTEND;VALUE=DATE-TIME:20260418T090000Z
DTSTAMP;VALUE=DATE-TIME:20260424T000317Z
UID:indico-contribution-2326@indico.itp.ac.cn
DESCRIPTION:Speakers: Jinxin Tan ()\nhttps://indico.itp.ac.cn/event/422/co
 ntributions/2326/
LOCATION:中海凯骊酒店 会议厅
URL:https://indico.itp.ac.cn/event/422/contributions/2326/
END:VEVENT
END:VCALENDAR
