BEGIN:VCALENDAR
VERSION:2.0
PRODID:-//CERN//INDICO//EN
BEGIN:VEVENT
SUMMARY:Obtaining the TMD Intrinsic Soft Function with Lattice QCD
DTSTART;VALUE=DATE-TIME:20260418T080000Z
DTEND;VALUE=DATE-TIME:20260418T083000Z
DTSTAMP;VALUE=DATE-TIME:20260424T000307Z
UID:indico-contribution-2325@indico.itp.ac.cn
DESCRIPTION:Speakers: Zhichao Gong ()\nhttps://indico.itp.ac.cn/event/422/
 contributions/2325/
LOCATION:中海凯骊酒店 会议厅
URL:https://indico.itp.ac.cn/event/422/contributions/2325/
END:VEVENT
END:VCALENDAR
