BEGIN:VCALENDAR
VERSION:2.0
PRODID:-//CERN//INDICO//EN
BEGIN:VEVENT
SUMMARY:Gluon helicity PDF of the nucleon from lattice QCD
DTSTART;VALUE=DATE-TIME:20260418T063000Z
DTEND;VALUE=DATE-TIME:20260418T070000Z
DTSTAMP;VALUE=DATE-TIME:20260424T000257Z
UID:indico-contribution-2324@indico.itp.ac.cn
DESCRIPTION:Speakers: Shiyi Zhong ()\nhttps://indico.itp.ac.cn/event/422/c
 ontributions/2324/
LOCATION:中海凯骊酒店 会议厅
URL:https://indico.itp.ac.cn/event/422/contributions/2324/
END:VEVENT
END:VCALENDAR
