BEGIN:VCALENDAR
VERSION:2.0
PRODID:-//CERN//INDICO//EN
BEGIN:VEVENT
SUMMARY:Spin structure and GPDs
DTSTART;VALUE=DATE-TIME:20260418T060000Z
DTEND;VALUE=DATE-TIME:20260418T063000Z
DTSTAMP;VALUE=DATE-TIME:20260424T012417Z
UID:indico-contribution-2323@indico.itp.ac.cn
DESCRIPTION:Speakers: Dian-Jun Zhao ()\nhttps://indico.itp.ac.cn/event/422
 /contributions/2323/
LOCATION:中海凯骊酒店 会议厅
URL:https://indico.itp.ac.cn/event/422/contributions/2323/
END:VEVENT
END:VCALENDAR
