BEGIN:VCALENDAR
VERSION:2.0
PRODID:-//CERN//INDICO//EN
BEGIN:VEVENT
SUMMARY:Discussion on flavor-dependent quark PDFs and gluon PDFs
DTSTART;VALUE=DATE-TIME:20260418T033000Z
DTEND;VALUE=DATE-TIME:20260418T043000Z
DTSTAMP;VALUE=DATE-TIME:20260424T000210Z
UID:indico-contribution-2322@indico.itp.ac.cn
DESCRIPTION:https://indico.itp.ac.cn/event/422/contributions/2322/
LOCATION:中海凯骊酒店 会议厅
URL:https://indico.itp.ac.cn/event/422/contributions/2322/
END:VEVENT
END:VCALENDAR
