BEGIN:VCALENDAR
VERSION:2.0
PRODID:-//CERN//INDICO//EN
BEGIN:VEVENT
SUMMARY:Unpolarized gluon PDF of the nucleon from lattice QCD
DTSTART;VALUE=DATE-TIME:20260418T030000Z
DTEND;VALUE=DATE-TIME:20260418T033000Z
DTSTAMP;VALUE=DATE-TIME:20260423T235754Z
UID:indico-contribution-2321@indico.itp.ac.cn
DESCRIPTION:Speakers: Chen Chen ()\nhttps://indico.itp.ac.cn/event/422/con
 tributions/2321/
LOCATION:中海凯骊酒店 会议厅
URL:https://indico.itp.ac.cn/event/422/contributions/2321/
END:VEVENT
END:VCALENDAR
