BEGIN:VCALENDAR
VERSION:2.0
PRODID:-//CERN//INDICO//EN
BEGIN:VEVENT
SUMMARY:Calculation of TMD gluon PDF and strange quark PDF from lattice QC
 D
DTSTART;VALUE=DATE-TIME:20260418T020000Z
DTEND;VALUE=DATE-TIME:20260418T023000Z
DTSTAMP;VALUE=DATE-TIME:20260424T000228Z
UID:indico-contribution-2320@indico.itp.ac.cn
DESCRIPTION:Speakers: Hongxin Dong ()\nhttps://indico.itp.ac.cn/event/422/
 contributions/2320/
LOCATION:中海凯骊酒店 会议厅
URL:https://indico.itp.ac.cn/event/422/contributions/2320/
END:VEVENT
END:VCALENDAR
