BEGIN:VCALENDAR
VERSION:2.0
PRODID:-//CERN//INDICO//EN
BEGIN:VEVENT
SUMMARY:A Next-Generation Muon g−2 Measurement at Sub-0.1 ppm Precision
DTSTART;VALUE=DATE-TIME:20260426T093000Z
DTEND;VALUE=DATE-TIME:20260426T095000Z
DTSTAMP;VALUE=DATE-TIME:20260424T053911Z
UID:indico-contribution-547-2377@indico.itp.ac.cn
DESCRIPTION:Speakers: Ce Zhang (Univ. of Liverpool) [Online] ()\nhttps://i
 ndico.itp.ac.cn/event/384/contributions/2377/
LOCATION: YUYA&HEWU
URL:https://indico.itp.ac.cn/event/384/contributions/2377/
END:VEVENT
BEGIN:VEVENT
SUMMARY:Muon beamline optimization based on AI
DTSTART;VALUE=DATE-TIME:20260426T091500Z
DTEND;VALUE=DATE-TIME:20260426T093000Z
DTSTAMP;VALUE=DATE-TIME:20260424T053911Z
UID:indico-contribution-547-2376@indico.itp.ac.cn
DESCRIPTION:Speakers: Cong Chen (IHEP) ()\nhttps://indico.itp.ac.cn/event/
 384/contributions/2376/
LOCATION: YUYA&HEWU
URL:https://indico.itp.ac.cn/event/384/contributions/2376/
END:VEVENT
BEGIN:VEVENT
SUMMARY:Study of the Liquid Lithium Jet as a Muon Source Target
DTSTART;VALUE=DATE-TIME:20260426T090000Z
DTEND;VALUE=DATE-TIME:20260426T091500Z
DTSTAMP;VALUE=DATE-TIME:20260424T053911Z
UID:indico-contribution-547-2375@indico.itp.ac.cn
DESCRIPTION:Speakers: Jianwei Niu (IMP\, CAS) ()\nhttps://indico.itp.ac.cn
 /event/384/contributions/2375/
LOCATION: YUYA&HEWU
URL:https://indico.itp.ac.cn/event/384/contributions/2375/
END:VEVENT
BEGIN:VEVENT
SUMMARY:Revisit to the beam transportations of J-PARC by Monte Carlo Simul
 ations
DTSTART;VALUE=DATE-TIME:20260426T084500Z
DTEND;VALUE=DATE-TIME:20260426T090000Z
DTSTAMP;VALUE=DATE-TIME:20260424T053911Z
UID:indico-contribution-547-2374@indico.itp.ac.cn
DESCRIPTION:Speakers: Phanthip Jaikaew (CMU)  ()\nhttps://indico.itp.ac.cn
 /event/384/contributions/2374/
LOCATION: YUYA&HEWU
URL:https://indico.itp.ac.cn/event/384/contributions/2374/
END:VEVENT
BEGIN:VEVENT
SUMMARY:Millimeter-Resolution Cosmic-Ray Imaging via Projection-Shifted Mu
 on Transmission Tomography
DTSTART;VALUE=DATE-TIME:20260426T083000Z
DTEND;VALUE=DATE-TIME:20260426T084500Z
DTSTAMP;VALUE=DATE-TIME:20260424T053911Z
UID:indico-contribution-547-2373@indico.itp.ac.cn
DESCRIPTION:Speakers: Zibo Qin (PKU) ()\nhttps://indico.itp.ac.cn/event/38
 4/contributions/2373/
LOCATION: YUYA&HEWU
URL:https://indico.itp.ac.cn/event/384/contributions/2373/
END:VEVENT
BEGIN:VEVENT
SUMMARY:Search for light Dark Sectors with GeV Muon Beams
DTSTART;VALUE=DATE-TIME:20260426T081500Z
DTEND;VALUE=DATE-TIME:20260426T083000Z
DTSTAMP;VALUE=DATE-TIME:20260424T053911Z
UID:indico-contribution-547-2372@indico.itp.ac.cn
DESCRIPTION:Speakers: Zijian Wang (PKU) ()\nhttps://indico.itp.ac.cn/event
 /384/contributions/2372/
LOCATION: YUYA&HEWU
URL:https://indico.itp.ac.cn/event/384/contributions/2372/
END:VEVENT
BEGIN:VEVENT
SUMMARY:Towards Precision X-ray Spectroscopy of Muonic Atoms to test QED b
 eyond Schwinger limit at CiADS
DTSTART;VALUE=DATE-TIME:20260426T073000Z
DTEND;VALUE=DATE-TIME:20260426T080000Z
DTSTAMP;VALUE=DATE-TIME:20260424T053911Z
UID:indico-contribution-547-2371@indico.itp.ac.cn
DESCRIPTION:Speakers: Weiqiang Wen (IMP\, CAS) ()\nhttps://indico.itp.ac.c
 n/event/384/contributions/2371/
LOCATION: YUYA&HEWU
URL:https://indico.itp.ac.cn/event/384/contributions/2371/
END:VEVENT
BEGIN:VEVENT
SUMMARY:MIXE Spectrometer based on CZT and HPGe
DTSTART;VALUE=DATE-TIME:20260426T070000Z
DTEND;VALUE=DATE-TIME:20260426T073000Z
DTSTAMP;VALUE=DATE-TIME:20260424T053911Z
UID:indico-contribution-547-2370@indico.itp.ac.cn
DESCRIPTION:Speakers: You Lyu (CSNS\, IHEP) ()\nhttps://indico.itp.ac.cn/e
 vent/384/contributions/2370/
LOCATION: YUYA&HEWU
URL:https://indico.itp.ac.cn/event/384/contributions/2370/
END:VEVENT
BEGIN:VEVENT
SUMMARY:A Proposal for Muon-Catalyzed Nuclear Fusion at CiADS (μCF)
DTSTART;VALUE=DATE-TIME:20260426T063000Z
DTEND;VALUE=DATE-TIME:20260426T070000Z
DTSTAMP;VALUE=DATE-TIME:20260424T053911Z
UID:indico-contribution-547-2369@indico.itp.ac.cn
DESCRIPTION:Speakers: Xiong Yin (CGN) ()\nhttps://indico.itp.ac.cn/event/3
 84/contributions/2369/
LOCATION: YUYA&HEWU
URL:https://indico.itp.ac.cn/event/384/contributions/2369/
END:VEVENT
END:VCALENDAR
