BEGIN:VCALENDAR
VERSION:2.0
PRODID:-//CERN//INDICO//EN
BEGIN:VEVENT
SUMMARY:Visit HIAF and CiADS (By Bus)
DTSTART;VALUE=DATE-TIME:20260427T060000Z
DTEND;VALUE=DATE-TIME:20260427T110000Z
DTSTAMP;VALUE=DATE-TIME:20260424T041452Z
UID:indico-contribution-2384@indico.itp.ac.cn
DESCRIPTION:Speakers: He Zhao & Hanjie Cai  ()\nhttps://indico.itp.ac.cn/e
 vent/384/contributions/2384/
LOCATION:
URL:https://indico.itp.ac.cn/event/384/contributions/2384/
END:VEVENT
END:VCALENDAR
