BEGIN:VCALENDAR
VERSION:2.0
PRODID:-//CERN//INDICO//EN
BEGIN:VEVENT
SUMMARY:3D Magnetic Field Reconstruction via PINN
DTSTART;VALUE=DATE-TIME:20260427T032000Z
DTEND;VALUE=DATE-TIME:20260427T035000Z
DTSTAMP;VALUE=DATE-TIME:20260424T094950Z
UID:indico-contribution-2383@indico.itp.ac.cn
DESCRIPTION:Speakers: Bingzhi Li (Zhejiang Lab) ()\nhttps://indico.itp.ac.
 cn/event/384/contributions/2383/
LOCATION:
URL:https://indico.itp.ac.cn/event/384/contributions/2383/
END:VEVENT
END:VCALENDAR
