BEGIN:VCALENDAR
VERSION:2.0
PRODID:-//CERN//INDICO//EN
BEGIN:VEVENT
SUMMARY:Development progress of TES microcalorimeter in IMP and measuremen
 t plan for muon-atoms
DTSTART;VALUE=DATE-TIME:20260427T025000Z
DTEND;VALUE=DATE-TIME:20260427T032000Z
DTSTAMP;VALUE=DATE-TIME:20260424T084321Z
UID:indico-contribution-2382@indico.itp.ac.cn
DESCRIPTION:Speakers: Shuo Zhang (IMP\, CAS) ()\nhttps://indico.itp.ac.cn/
 event/384/contributions/2382/
LOCATION:
URL:https://indico.itp.ac.cn/event/384/contributions/2382/
END:VEVENT
END:VCALENDAR
