BEGIN:VCALENDAR
VERSION:2.0
PRODID:-//CERN//INDICO//EN
BEGIN:VEVENT
SUMMARY:Muon Cooling Channel Design for a Muon Collider
DTSTART;VALUE=DATE-TIME:20260427T022000Z
DTEND;VALUE=DATE-TIME:20260427T025000Z
DTSTAMP;VALUE=DATE-TIME:20260424T071504Z
UID:indico-contribution-2381@indico.itp.ac.cn
DESCRIPTION:Speakers: Ruihu Zhu (IMP\, CAS) ()\nhttps://indico.itp.ac.cn/e
 vent/384/contributions/2381/
LOCATION:
URL:https://indico.itp.ac.cn/event/384/contributions/2381/
END:VEVENT
END:VCALENDAR
