BEGIN:VCALENDAR
VERSION:2.0
PRODID:-//CERN//INDICO//EN
BEGIN:VEVENT
SUMMARY:Conceptual Design of the Muonium-to-Antimuonium Conversion Experim
 ent (MACE)
DTSTART;VALUE=DATE-TIME:20260427T013000Z
DTEND;VALUE=DATE-TIME:20260427T020000Z
DTSTAMP;VALUE=DATE-TIME:20260424T041310Z
UID:indico-contribution-2380@indico.itp.ac.cn
DESCRIPTION:Speakers: Siyuan Chen (SYSU) ()\nhttps://indico.itp.ac.cn/even
 t/384/contributions/2380/
LOCATION:
URL:https://indico.itp.ac.cn/event/384/contributions/2380/
END:VEVENT
END:VCALENDAR
