BEGIN:VCALENDAR
VERSION:2.0
PRODID:-//CERN//INDICO//EN
BEGIN:VEVENT
SUMMARY:LUNE: a muon-nuclear fixed target experiment at HIAF
DTSTART;VALUE=DATE-TIME:20260427T010000Z
DTEND;VALUE=DATE-TIME:20260427T013000Z
DTSTAMP;VALUE=DATE-TIME:20260424T071353Z
UID:indico-contribution-2379@indico.itp.ac.cn
DESCRIPTION:Speakers: Hang Yin (CCNU) ()\nhttps://indico.itp.ac.cn/event/3
 84/contributions/2379/
LOCATION:
URL:https://indico.itp.ac.cn/event/384/contributions/2379/
END:VEVENT
END:VCALENDAR
