BEGIN:VCALENDAR
VERSION:2.0
PRODID:-//CERN//INDICO//EN
BEGIN:VEVENT
SUMMARY:DREAMuS: Searching for Muon-philic Dark Matter at HIAF
DTSTART;VALUE=DATE-TIME:20260427T003000Z
DTEND;VALUE=DATE-TIME:20260427T010000Z
DTSTAMP;VALUE=DATE-TIME:20260424T124425Z
UID:indico-contribution-2378@indico.itp.ac.cn
DESCRIPTION:Speakers: Xiang Chen (SJTU) ()\nhttps://indico.itp.ac.cn/event
 /384/contributions/2378/
LOCATION:
URL:https://indico.itp.ac.cn/event/384/contributions/2378/
END:VEVENT
END:VCALENDAR
