BEGIN:VCALENDAR
VERSION:2.0
PRODID:-//CERN//INDICO//EN
BEGIN:VEVENT
SUMMARY:A Next-Generation Muon g−2 Measurement at Sub-0.1 ppm Precision
DTSTART;VALUE=DATE-TIME:20260426T093000Z
DTEND;VALUE=DATE-TIME:20260426T095000Z
DTSTAMP;VALUE=DATE-TIME:20260424T111838Z
UID:indico-contribution-2377@indico.itp.ac.cn
DESCRIPTION:Speakers: Ce Zhang (Univ. of Liverpool) [Online] ()\nhttps://i
 ndico.itp.ac.cn/event/384/contributions/2377/
LOCATION: YUYA&HEWU
URL:https://indico.itp.ac.cn/event/384/contributions/2377/
END:VEVENT
END:VCALENDAR
