BEGIN:VCALENDAR
VERSION:2.0
PRODID:-//CERN//INDICO//EN
BEGIN:VEVENT
SUMMARY:Study of the Liquid Lithium Jet as a Muon Source Target
DTSTART;VALUE=DATE-TIME:20260426T090000Z
DTEND;VALUE=DATE-TIME:20260426T091500Z
DTSTAMP;VALUE=DATE-TIME:20260424T041442Z
UID:indico-contribution-2375@indico.itp.ac.cn
DESCRIPTION:Speakers: Jianwei Niu (IMP\, CAS) ()\nhttps://indico.itp.ac.cn
 /event/384/contributions/2375/
LOCATION: YUYA&HEWU
URL:https://indico.itp.ac.cn/event/384/contributions/2375/
END:VEVENT
END:VCALENDAR
