BEGIN:VCALENDAR
VERSION:2.0
PRODID:-//CERN//INDICO//EN
BEGIN:VEVENT
SUMMARY:Revisit to the beam transportations of J-PARC by Monte Carlo Simul
 ations
DTSTART;VALUE=DATE-TIME:20260426T084500Z
DTEND;VALUE=DATE-TIME:20260426T090000Z
DTSTAMP;VALUE=DATE-TIME:20260424T094941Z
UID:indico-contribution-2374@indico.itp.ac.cn
DESCRIPTION:Speakers: Phanthip Jaikaew (CMU)  ()\nhttps://indico.itp.ac.cn
 /event/384/contributions/2374/
LOCATION: YUYA&HEWU
URL:https://indico.itp.ac.cn/event/384/contributions/2374/
END:VEVENT
END:VCALENDAR
