BEGIN:VCALENDAR
VERSION:2.0
PRODID:-//CERN//INDICO//EN
BEGIN:VEVENT
SUMMARY:MIXE Spectrometer based on CZT and HPGe
DTSTART;VALUE=DATE-TIME:20260426T070000Z
DTEND;VALUE=DATE-TIME:20260426T073000Z
DTSTAMP;VALUE=DATE-TIME:20260424T084419Z
UID:indico-contribution-2370@indico.itp.ac.cn
DESCRIPTION:Speakers: You Lyu (CSNS\, IHEP) ()\nhttps://indico.itp.ac.cn/e
 vent/384/contributions/2370/
LOCATION: YUYA&HEWU
URL:https://indico.itp.ac.cn/event/384/contributions/2370/
END:VEVENT
END:VCALENDAR
