BEGIN:VCALENDAR
VERSION:2.0
PRODID:-//CERN//INDICO//EN
BEGIN:VEVENT
SUMMARY:Recent Advances in Novel Quantum Materials Explored through MuSR M
 easurements
DTSTART;VALUE=DATE-TIME:20260426T092500Z
DTEND;VALUE=DATE-TIME:20260426T095500Z
DTSTAMP;VALUE=DATE-TIME:20260424T041432Z
UID:indico-contribution-2368@indico.itp.ac.cn
DESCRIPTION:Speakers: Guoqiang Zhao (IOP\, CAS) ()\nhttps://indico.itp.ac.
 cn/event/384/contributions/2368/
LOCATION: ZHAOYUN
URL:https://indico.itp.ac.cn/event/384/contributions/2368/
END:VEVENT
END:VCALENDAR
