BEGIN:VCALENDAR
VERSION:2.0
PRODID:-//CERN//INDICO//EN
BEGIN:VEVENT
SUMMARY:Superconducting and magnetic properties of pyrochlore CeRu2 invest
 igated by muon spin rotation/relaxation
DTSTART;VALUE=DATE-TIME:20260426T082500Z
DTEND;VALUE=DATE-TIME:20260426T085500Z
DTSTAMP;VALUE=DATE-TIME:20260424T054710Z
UID:indico-contribution-2366@indico.itp.ac.cn
DESCRIPTION:Speakers: Xin Li (INPC\, CAEP) ()\nhttps://indico.itp.ac.cn/ev
 ent/384/contributions/2366/
LOCATION: ZHAOYUN
URL:https://indico.itp.ac.cn/event/384/contributions/2366/
END:VEVENT
END:VCALENDAR
