BEGIN:VCALENDAR
VERSION:2.0
PRODID:-//CERN//INDICO//EN
BEGIN:VEVENT
SUMMARY:Origins of spontaneous magnetic fields in Sr2RuO4
DTSTART;VALUE=DATE-TIME:20260426T075500Z
DTEND;VALUE=DATE-TIME:20260426T082500Z
DTSTAMP;VALUE=DATE-TIME:20260424T054108Z
UID:indico-contribution-2365@indico.itp.ac.cn
DESCRIPTION:Speakers: Vadim Grinenko (SJTU) ()\nhttps://indico.itp.ac.cn/e
 vent/384/contributions/2365/
LOCATION: ZHAOYUN
URL:https://indico.itp.ac.cn/event/384/contributions/2365/
END:VEVENT
END:VCALENDAR
