BEGIN:VCALENDAR
VERSION:2.0
PRODID:-//CERN//INDICO//EN
BEGIN:VEVENT
SUMMARY:muSR Spectrometer based on LGAD
DTSTART;VALUE=DATE-TIME:20260426T070000Z
DTEND;VALUE=DATE-TIME:20260426T071500Z
DTSTAMP;VALUE=DATE-TIME:20260424T111742Z
UID:indico-contribution-2363@indico.itp.ac.cn
DESCRIPTION:Speakers: Meichan Feng(CSNS\, IHEP) ()\nhttps://indico.itp.ac.
 cn/event/384/contributions/2363/
LOCATION: ZHAOYUN
URL:https://indico.itp.ac.cn/event/384/contributions/2363/
END:VEVENT
END:VCALENDAR
