BEGIN:VCALENDAR
VERSION:2.0
PRODID:-//CERN//INDICO//EN
BEGIN:VEVENT
SUMMARY:muSR studies of spin dynamics in frustrated rare-earth magnets
DTSTART;VALUE=DATE-TIME:20260426T032000Z
DTEND;VALUE=DATE-TIME:20260426T035000Z
DTSTAMP;VALUE=DATE-TIME:20260424T155158Z
UID:indico-contribution-2357@indico.itp.ac.cn
DESCRIPTION:Speakers: Hanjie Guo (SSLAB) ()\nhttps://indico.itp.ac.cn/even
 t/384/contributions/2357/
LOCATION:
URL:https://indico.itp.ac.cn/event/384/contributions/2357/
END:VEVENT
END:VCALENDAR
