BEGIN:VCALENDAR
VERSION:2.0
PRODID:-//CERN//INDICO//EN
BEGIN:VEVENT
SUMMARY:Spin supersolid and related magnetocaloric effect in a metallic di
 polar magnet EuCo2Al9
DTSTART;VALUE=DATE-TIME:20260426T025000Z
DTEND;VALUE=DATE-TIME:20260426T032000Z
DTSTAMP;VALUE=DATE-TIME:20260424T124521Z
UID:indico-contribution-2356@indico.itp.ac.cn
DESCRIPTION:Speakers: Jie Ma (SJTU) ()\nhttps://indico.itp.ac.cn/event/384
 /contributions/2356/
LOCATION:
URL:https://indico.itp.ac.cn/event/384/contributions/2356/
END:VEVENT
END:VCALENDAR
