BEGIN:VCALENDAR
VERSION:2.0
PRODID:-//CERN//INDICO//EN
BEGIN:VEVENT
SUMMARY:Achievements and Future of muSR obtained from RIKEN-RAL
DTSTART;VALUE=DATE-TIME:20260426T022000Z
DTEND;VALUE=DATE-TIME:20260426T025000Z
DTSTAMP;VALUE=DATE-TIME:20260424T041351Z
UID:indico-contribution-2355@indico.itp.ac.cn
DESCRIPTION:Speakers: Isao Watanabe (RIKEN) ()\nhttps://indico.itp.ac.cn/e
 vent/384/contributions/2355/
LOCATION:
URL:https://indico.itp.ac.cn/event/384/contributions/2355/
END:VEVENT
END:VCALENDAR
