BEGIN:VCALENDAR
VERSION:2.0
PRODID:-//CERN//INDICO//EN
BEGIN:VEVENT
SUMMARY:Nuclear structure effects in muonic atom spectroscopy
DTSTART;VALUE=DATE-TIME:20260426T013000Z
DTEND;VALUE=DATE-TIME:20260426T020000Z
DTSTAMP;VALUE=DATE-TIME:20260424T142144Z
UID:indico-contribution-2354@indico.itp.ac.cn
DESCRIPTION:Speakers: Chen Ji (CCNU) ()\nhttps://indico.itp.ac.cn/event/38
 4/contributions/2354/
LOCATION:
URL:https://indico.itp.ac.cn/event/384/contributions/2354/
END:VEVENT
END:VCALENDAR
