BEGIN:VCALENDAR
VERSION:2.0
PRODID:-//CERN//INDICO//EN
BEGIN:VEVENT
SUMMARY:Muonic atom spectroscopy at PSI and the development of the MIXE te
 chnique
DTSTART;VALUE=DATE-TIME:20260426T010000Z
DTEND;VALUE=DATE-TIME:20260426T013000Z
DTSTAMP;VALUE=DATE-TIME:20260424T095040Z
UID:indico-contribution-2353@indico.itp.ac.cn
DESCRIPTION:Speakers: Issa Briki (PSI) ()\nhttps://indico.itp.ac.cn/event/
 384/contributions/2353/
LOCATION:
URL:https://indico.itp.ac.cn/event/384/contributions/2353/
END:VEVENT
END:VCALENDAR
