BEGIN:VCALENDAR
VERSION:2.0
PRODID:-//CERN//INDICO//EN
BEGIN:VEVENT
SUMMARY:Muon-Induced X-ray Emission (MIXE) at PSI: Technique and Applicati
 ons
DTSTART;VALUE=DATE-TIME:20260426T003000Z
DTEND;VALUE=DATE-TIME:20260426T010000Z
DTSTAMP;VALUE=DATE-TIME:20260424T041331Z
UID:indico-contribution-2352@indico.itp.ac.cn
DESCRIPTION:Speakers: Maxime Lamotte (PSI) ()\nhttps://indico.itp.ac.cn/ev
 ent/384/contributions/2352/
LOCATION:
URL:https://indico.itp.ac.cn/event/384/contributions/2352/
END:VEVENT
END:VCALENDAR
