BEGIN:VCALENDAR
VERSION:2.0
PRODID:-//CERN//INDICO//EN
BEGIN:VEVENT
SUMMARY:Muoniverse
DTSTART;VALUE=DATE-TIME:20260425T095000Z
DTEND;VALUE=DATE-TIME:20260425T102000Z
DTSTAMP;VALUE=DATE-TIME:20260424T124556Z
UID:indico-contribution-2351@indico.itp.ac.cn
DESCRIPTION:Speakers: Klaus Kirch (PSI) [Online] ()\nhttps://indico.itp.ac
 .cn/event/384/contributions/2351/
LOCATION:
URL:https://indico.itp.ac.cn/event/384/contributions/2351/
END:VEVENT
END:VCALENDAR
