BEGIN:VCALENDAR
VERSION:2.0
PRODID:-//CERN//INDICO//EN
BEGIN:VEVENT
SUMMARY:MUonE experiment
DTSTART;VALUE=DATE-TIME:20260425T092000Z
DTEND;VALUE=DATE-TIME:20260425T095000Z
DTSTAMP;VALUE=DATE-TIME:20260424T041412Z
UID:indico-contribution-2350@indico.itp.ac.cn
DESCRIPTION:Speakers: Riccardo Pilato (Univ. of Liverpool) [Online] ()\nht
 tps://indico.itp.ac.cn/event/384/contributions/2350/
LOCATION:
URL:https://indico.itp.ac.cn/event/384/contributions/2350/
END:VEVENT
END:VCALENDAR
