BEGIN:VCALENDAR
VERSION:2.0
PRODID:-//CERN//INDICO//EN
BEGIN:VEVENT
SUMMARY:COMET
DTSTART;VALUE=DATE-TIME:20260425T085000Z
DTEND;VALUE=DATE-TIME:20260425T092000Z
DTSTAMP;VALUE=DATE-TIME:20260424T124229Z
UID:indico-contribution-2349@indico.itp.ac.cn
DESCRIPTION:Speakers: Chen Wu (IHEP) ()\nhttps://indico.itp.ac.cn/event/38
 4/contributions/2349/
LOCATION:
URL:https://indico.itp.ac.cn/event/384/contributions/2349/
END:VEVENT
END:VCALENDAR
