BEGIN:VCALENDAR
VERSION:2.0
PRODID:-//CERN//INDICO//EN
BEGIN:VEVENT
SUMMARY:Mu2e
DTSTART;VALUE=DATE-TIME:20260425T082000Z
DTEND;VALUE=DATE-TIME:20260425T085000Z
DTSTAMP;VALUE=DATE-TIME:20260424T095822Z
UID:indico-contribution-2348@indico.itp.ac.cn
DESCRIPTION:Speakers: Zhenyun You (SYSU) ()\nhttps://indico.itp.ac.cn/even
 t/384/contributions/2348/
LOCATION:
URL:https://indico.itp.ac.cn/event/384/contributions/2348/
END:VEVENT
END:VCALENDAR
