BEGIN:VCALENDAR
VERSION:2.0
PRODID:-//CERN//INDICO//EN
BEGIN:VEVENT
SUMMARY:Muon Collider
DTSTART;VALUE=DATE-TIME:20260425T075000Z
DTEND;VALUE=DATE-TIME:20260425T082000Z
DTSTAMP;VALUE=DATE-TIME:20260424T095832Z
UID:indico-contribution-2347@indico.itp.ac.cn
DESCRIPTION:Speakers: Daniel Schulte (CERN) [Online] ()\nhttps://indico.it
 p.ac.cn/event/384/contributions/2347/
LOCATION:
URL:https://indico.itp.ac.cn/event/384/contributions/2347/
END:VEVENT
END:VCALENDAR
