BEGIN:VCALENDAR
VERSION:2.0
PRODID:-//CERN//INDICO//EN
BEGIN:VEVENT
SUMMARY:muEDM at PSI
DTSTART;VALUE=DATE-TIME:20260425T070000Z
DTEND;VALUE=DATE-TIME:20260425T073000Z
DTSTAMP;VALUE=DATE-TIME:20260424T054247Z
UID:indico-contribution-2346@indico.itp.ac.cn
DESCRIPTION:Speakers: Philipp Schmidt-Wellenburg (PSI) [Online] ()\nhttps:
 //indico.itp.ac.cn/event/384/contributions/2346/
LOCATION:
URL:https://indico.itp.ac.cn/event/384/contributions/2346/
END:VEVENT
END:VCALENDAR
