BEGIN:VCALENDAR
VERSION:2.0
PRODID:-//CERN//INDICO//EN
BEGIN:VEVENT
SUMMARY:Muon g-2/EDM at J-PARC
DTSTART;VALUE=DATE-TIME:20260425T063000Z
DTEND;VALUE=DATE-TIME:20260425T070000Z
DTSTAMP;VALUE=DATE-TIME:20260424T124413Z
UID:indico-contribution-2345@indico.itp.ac.cn
DESCRIPTION:Speakers: Tsutomu Mibe (KEK) [Online] ()\nhttps://indico.itp.a
 c.cn/event/384/contributions/2345/
LOCATION:
URL:https://indico.itp.ac.cn/event/384/contributions/2345/
END:VEVENT
END:VCALENDAR
