BEGIN:VCALENDAR
VERSION:2.0
PRODID:-//CERN//INDICO//EN
BEGIN:VEVENT
SUMMARY:Muon g-2 and EDM at FNAL
DTSTART;VALUE=DATE-TIME:20260425T060000Z
DTEND;VALUE=DATE-TIME:20260425T063000Z
DTSTAMP;VALUE=DATE-TIME:20260424T124403Z
UID:indico-contribution-2344@indico.itp.ac.cn
DESCRIPTION:Speakers: Yonghao Zeng (SJTU) ()\nhttps://indico.itp.ac.cn/eve
 nt/384/contributions/2344/
LOCATION:
URL:https://indico.itp.ac.cn/event/384/contributions/2344/
END:VEVENT
END:VCALENDAR
