BEGIN:VCALENDAR
VERSION:2.0
PRODID:-//CERN//INDICO//EN
BEGIN:VEVENT
SUMMARY:Poster
DTSTART;VALUE=DATE-TIME:20260425T051000Z
DTEND;VALUE=DATE-TIME:20260425T060000Z
DTSTAMP;VALUE=DATE-TIME:20260424T124434Z
UID:indico-contribution-2343@indico.itp.ac.cn
DESCRIPTION:https://indico.itp.ac.cn/event/384/contributions/2343/
LOCATION:
URL:https://indico.itp.ac.cn/event/384/contributions/2343/
END:VEVENT
END:VCALENDAR
