BEGIN:VCALENDAR
VERSION:2.0
PRODID:-//CERN//INDICO//EN
BEGIN:VEVENT
SUMMARY:PKMu: Probing and Knocking with Muons at Peking University
DTSTART;VALUE=DATE-TIME:20260425T034500Z
DTEND;VALUE=DATE-TIME:20260425T041500Z
DTSTAMP;VALUE=DATE-TIME:20260424T071524Z
UID:indico-contribution-2342@indico.itp.ac.cn
DESCRIPTION:Speakers: Qite Li (PKU) ()\nhttps://indico.itp.ac.cn/event/384
 /contributions/2342/
LOCATION:
URL:https://indico.itp.ac.cn/event/384/contributions/2342/
END:VEVENT
END:VCALENDAR
