BEGIN:VCALENDAR
VERSION:2.0
PRODID:-//CERN//INDICO//EN
BEGIN:VEVENT
SUMMARY:SHINE Muon Source
DTSTART;VALUE=DATE-TIME:20260425T031500Z
DTEND;VALUE=DATE-TIME:20260425T034500Z
DTSTAMP;VALUE=DATE-TIME:20260424T071343Z
UID:indico-contribution-2341@indico.itp.ac.cn
DESCRIPTION:Speakers: Jun Kai Ng (SJTU) ()\nhttps://indico.itp.ac.cn/event
 /384/contributions/2341/
LOCATION:
URL:https://indico.itp.ac.cn/event/384/contributions/2341/
END:VEVENT
END:VCALENDAR
