BEGIN:VCALENDAR
VERSION:2.0
PRODID:-//CERN//INDICO//EN
BEGIN:VEVENT
SUMMARY:Development Progress of CiADS Muon Source
DTSTART;VALUE=DATE-TIME:20260425T024500Z
DTEND;VALUE=DATE-TIME:20260425T031500Z
DTSTAMP;VALUE=DATE-TIME:20260424T084333Z
UID:indico-contribution-2340@indico.itp.ac.cn
DESCRIPTION:Speakers: Hanjie Cai (IMP\, CAS) ()\nhttps://indico.itp.ac.cn/
 event/384/contributions/2340/
LOCATION:
URL:https://indico.itp.ac.cn/event/384/contributions/2340/
END:VEVENT
END:VCALENDAR
